BEGIN:VCALENDAR
VERSION:2.0
PRODID:-//Sabre//Sabre VObject 4.5.8//EN
CALSCALE:GREGORIAN
BEGIN:VEVENT
UID:sabre-vobject-c2265b63-b342-4de9-9c79-5ff389189cdb
DTSTAMP:20260421T192059Z
SUMMARY:Tauffeier
DESCRIPTION:https://pfarreien-bistum-augsburg.df-preview.de/tauffeier_id174
 6546
DTSTART;TZID=Europe/Berlin:20260501T133000
DURATION:PT30M
LOCATION:St. Ulrich
END:VEVENT
END:VCALENDAR
