BEGIN:VCALENDAR
VERSION:2.0
PRODID:-//Sabre//Sabre VObject 4.5.8//EN
CALSCALE:GREGORIAN
BEGIN:VEVENT
UID:sabre-vobject-7a693539-0aee-49ef-80eb-8fbe60c3ff01
DTSTAMP:20260423T094147Z
SUMMARY:Hl. Messe zum Patrozinium Josef der Arbeiter
DESCRIPTION:https://pfarreien-bistum-augsburg.df-preview.de/hl-messe-zum-pa
 trozinium-josef-der-arbeiter_id1746504
DTSTART;TZID=Europe/Berlin:20260501T093000
DURATION:PT30M
LOCATION:St. Peter und Paul
END:VEVENT
END:VCALENDAR
