BEGIN:VCALENDAR
VERSION:2.0
PRODID:-//Sabre//Sabre VObject 4.5.8//EN
CALSCALE:GREGORIAN
BEGIN:VEVENT
UID:sabre-vobject-6f58ba6d-b2e1-4dfd-864d-cf77025e78c9
DTSTAMP:20260423T154530Z
SUMMARY:Andacht an der Gregor-Kraus-Kapelle bei Bauhofen
DESCRIPTION:https://pfarreien-bistum-augsburg.df-preview.de/andacht-an-der-
 gregor-kraus-kapelle-bei-bauhofen_id1746399
DTSTART;TZID=Europe/Berlin:20260502T190000
DURATION:PT30M
LOCATION:St. Peter und Paul
END:VEVENT
END:VCALENDAR
