BEGIN:VCALENDAR
VERSION:2.0
PRODID:-//Sabre//Sabre VObject 4.5.8//EN
CALSCALE:GREGORIAN
BEGIN:VEVENT
UID:sabre-vobject-2476bbf8-0b19-4957-ad99-41d38bf90673
DTSTAMP:20260423T044949Z
SUMMARY:Wallfahrt nach Maria Birnbaum\, dort um 8:30 Uhr Messe
DESCRIPTION:https://pfarreien-bistum-augsburg.df-preview.de/wallfahrt-nach-
 maria-birnbaum-dort-um-8-30-uhr-messe_id1746364
DTSTART;TZID=Europe/Berlin:20260501T071500
DURATION:PT30M
LOCATION:St. Laurentius
END:VEVENT
END:VCALENDAR
