BEGIN:VCALENDAR
VERSION:2.0
PRODID:-//Sabre//Sabre VObject 4.5.8//EN
CALSCALE:GREGORIAN
BEGIN:VEVENT
UID:sabre-vobject-c19535c0-7abd-4eae-982a-4365b7e284f4
DTSTAMP:20260423T102459Z
SUMMARY:Hl. Messe in der Pfarrkirche - Entfällt -
DESCRIPTION:https://pfarreien-bistum-augsburg.df-preview.de/hl-messe-in-der
 -pfarrkirche-entfaellt_id1746363
DTSTART;TZID=Europe/Berlin:20260528T190000
DURATION:PT30M
LOCATION:St. Kilian
END:VEVENT
END:VCALENDAR
