BEGIN:VCALENDAR
VERSION:2.0
PRODID:-//Sabre//Sabre VObject 4.5.8//EN
CALSCALE:GREGORIAN
BEGIN:VEVENT
UID:sabre-vobject-fcfce4a8-792b-477a-aaaf-ed7514402a5b
DTSTAMP:20260425T181821Z
SUMMARY:Hl. Messe in der Fachklinik - ENTFÄLLT
DESCRIPTION:https://pfarreien-bistum-augsburg.df-preview.de/hl-messe-in-der
 -fachklinik-entfaellt_id1746361
DTSTART;TZID=Europe/Berlin:20260526T190000
DURATION:PT30M
LOCATION:St. Kilian
END:VEVENT
END:VCALENDAR
