BEGIN:VCALENDAR
VERSION:2.0
PRODID:-//Sabre//Sabre VObject 4.5.8//EN
CALSCALE:GREGORIAN
BEGIN:VEVENT
UID:sabre-vobject-54e9e383-aa9b-43e1-bf54-e5b41ab98d2c
DTSTAMP:20260425T170320Z
SUMMARY:Wanderung nach St. Johannisrain\nTreffpunkt um 08:30 Uhr an der Pfa
 rrkirche (entfällt bei Regen)
DESCRIPTION:https://pfarreien-bistum-augsburg.df-preview.de/wanderung-nach-
 st-johannisrain-treffpunkt-um-08-30-uhr-an-der-pfarrkirche-entfaellt-bei-r
 egen_id1746354
DTSTART;TZID=Europe/Berlin:20260525T083000
DURATION:PT30M
LOCATION:St. Kilian
END:VEVENT
END:VCALENDAR
