BEGIN:VCALENDAR
VERSION:2.0
PRODID:-//Sabre//Sabre VObject 4.5.8//EN
CALSCALE:GREGORIAN
BEGIN:VEVENT
UID:sabre-vobject-b4c6645d-da36-4d80-b1c0-73ff0564d544
DTSTAMP:20260423T084747Z
SUMMARY:Festgottesdienst in der Pfarrkirche\nKollekte für Renovabis
DESCRIPTION:https://pfarreien-bistum-augsburg.df-preview.de/festgottesdiens
 t-in-der-pfarrkirche-kollekte-fuer-renovabis_id1746352
DTSTART;TZID=Europe/Berlin:20260524T093000
DURATION:PT30M
LOCATION:St. Kilian
END:VEVENT
END:VCALENDAR
