BEGIN:VCALENDAR
VERSION:2.0
PRODID:-//Sabre//Sabre VObject 4.5.8//EN
CALSCALE:GREGORIAN
BEGIN:VEVENT
UID:sabre-vobject-d1760b85-85fd-4f53-a77a-5b9b58dbc1ec
DTSTAMP:20260424T015138Z
SUMMARY:Ökum. Gottesdienst zu Christi Himmelfahrt auf dem Gelände der Spi
 elvereinigung Bärenkeller
DESCRIPTION:https://pfarreien-bistum-augsburg.df-preview.de/oekum-gottesdie
 nst-zu-christi-himmelfahrt-auf-dem-gelaende-der-spielvereinigung-baerenkel
 ler_id1746333
DTSTART;TZID=Europe/Berlin:20260514T100000
DURATION:PT30M
LOCATION:St. Konrad
END:VEVENT
END:VCALENDAR
