BEGIN:VCALENDAR
VERSION:2.0
PRODID:-//Sabre//Sabre VObject 4.5.8//EN
CALSCALE:GREGORIAN
BEGIN:VEVENT
UID:sabre-vobject-3495b481-1cd2-4ba3-af55-4a43c1f252b9
DTSTAMP:20260421T020741Z
SUMMARY:Seniorenmesse mit Krankensalbung
DESCRIPTION:https://pfarreien-bistum-augsburg.df-preview.de/seniorenmesse-m
 it-krankensalbung_id1746312
DTSTART;TZID=Europe/Berlin:20260429T143000
DURATION:PT30M
LOCATION:St. Elisabeth
END:VEVENT
END:VCALENDAR
