BEGIN:VCALENDAR
VERSION:2.0
PRODID:-//Sabre//Sabre VObject 4.5.8//EN
CALSCALE:GREGORIAN
BEGIN:VEVENT
UID:sabre-vobject-7a12af3d-d55a-4389-ad5f-28ded18b29d2
DTSTAMP:20260421T225411Z
SUMMARY:Kirchenführung intern
DESCRIPTION:https://pfarreien-bistum-augsburg.df-preview.de/kirchenfuehrung
 -intern_id1746241
DTSTART;TZID=Europe/Berlin:20260517T150000
DURATION:PT30M
LOCATION:St. Jakobus maj.\, St.-Jakobs-Platz\, 86316 Friedberg
END:VEVENT
END:VCALENDAR
