BEGIN:VCALENDAR
VERSION:2.0
PRODID:-//Sabre//Sabre VObject 4.5.8//EN
CALSCALE:GREGORIAN
BEGIN:VEVENT
UID:sabre-vobject-28e4fbdf-2abb-4745-857d-9c8529d1373b
DTSTAMP:20260423T115702Z
SUMMARY:Bittgang nach Osterzhausen\n
DESCRIPTION:https://pfarreien-bistum-augsburg.df-preview.de/bittgang-nach-o
 sterzhausen_id1746231
DTSTART;TZID=Europe/Berlin:20260512T183000
DURATION:PT30M
LOCATION:St. Anna
END:VEVENT
END:VCALENDAR
