BEGIN:VCALENDAR
VERSION:2.0
PRODID:-//Sabre//Sabre VObject 4.5.8//EN
CALSCALE:GREGORIAN
BEGIN:VEVENT
UID:sabre-vobject-6e57e25e-7671-437a-9b3d-2c0f6076f7dd
DTSTAMP:20260423T115731Z
SUMMARY:Festgottesdienst in der Pfarrkirche\nanschließend Fronleichnamspro
 zession\n(Bei Regen Festgottesdienst um 08:30 Uhr in der Pfarrkirche)\nKol
 lekte für die Jugendarbeit in der Pfarrei
DESCRIPTION:https://pfarreien-bistum-augsburg.df-preview.de/festgottesdiens
 t-in-der-pfarrkirche-anschliessend-fronleichnamsprozession-bei-regen-festg
 ottesdienst-um-08-30-uhr-in-der-pfarrkirche-kollekte-fuer-die-jugendarbeit
 -in-der-pfarrei_id1746189
DTSTART;TZID=Europe/Berlin:20260604T083000
DURATION:PT30M
LOCATION:St. Kilian
END:VEVENT
END:VCALENDAR
