BEGIN:VCALENDAR
VERSION:2.0
PRODID:-//Sabre//Sabre VObject 4.5.8//EN
CALSCALE:GREGORIAN
BEGIN:VEVENT
UID:sabre-vobject-6501e13b-bb8e-49f2-8f42-72443d5e31d9
DTSTAMP:20260424T204233Z
SUMMARY:Vorabendmesse in der Fachklinik
DESCRIPTION:https://pfarreien-bistum-augsburg.df-preview.de/vorabendmesse-i
 n-der-fachklinik_id1746188
DTSTART;TZID=Europe/Berlin:20260516T190000
DURATION:PT30M
LOCATION:St. Kilian
END:VEVENT
END:VCALENDAR
