BEGIN:VCALENDAR
VERSION:2.0
PRODID:-//Sabre//Sabre VObject 4.5.8//EN
CALSCALE:GREGORIAN
BEGIN:VEVENT
UID:sabre-vobject-47d4e358-13d8-49d1-bdf4-8f2dcb7e4af1
DTSTAMP:20260423T052355Z
SUMMARY:Rosenkranz in der Pfarrkirche
DESCRIPTION:https://pfarreien-bistum-augsburg.df-preview.de/rosenkranz-in-d
 er-pfarrkirche_id1746174
DTSTART;TZID=Europe/Berlin:20260601T190000
DURATION:PT30M
LOCATION:St. Kilian
END:VEVENT
END:VCALENDAR
