BEGIN:VCALENDAR
VERSION:2.0
PRODID:-//Sabre//Sabre VObject 4.5.8//EN
CALSCALE:GREGORIAN
BEGIN:VEVENT
UID:sabre-vobject-d72e1b6a-f016-4795-ad2c-c43203ed80bd
DTSTAMP:20260425T120537Z
SUMMARY:Hl. Messe- Maria Bayern
DESCRIPTION:https://pfarreien-bistum-augsburg.df-preview.de/hl-messe-maria-
 bayern_id1746168
DTSTART;TZID=Europe/Berlin:20260501T100000
DURATION:PT30M
LOCATION:Mariä Himmelfahrt
END:VEVENT
END:VCALENDAR
