BEGIN:VCALENDAR
VERSION:2.0
PRODID:-//Sabre//Sabre VObject 4.5.8//EN
CALSCALE:GREGORIAN
BEGIN:VEVENT
UID:sabre-vobject-c6363043-b98f-47b5-8e0c-026c284d46fc
DTSTAMP:20260423T154908Z
SUMMARY:Marienandacht am Schönstatt Bildstock in der Ramsau\nnur bei trock
 ener Witterung
DESCRIPTION:https://pfarreien-bistum-augsburg.df-preview.de/marienandacht-a
 m-schoenstatt-bildstock-in-der-ramsau-nur-bei-trockener-witterung_id174615
 4
DTSTART;TZID=Europe/Berlin:20260522T190000
DURATION:PT30M
LOCATION:St. Kilian
END:VEVENT
END:VCALENDAR
