BEGIN:VCALENDAR
VERSION:2.0
PRODID:-//Sabre//Sabre VObject 4.5.8//EN
CALSCALE:GREGORIAN
BEGIN:VEVENT
UID:sabre-vobject-7ea75ce6-a497-4ef9-9141-f58ff4174241
DTSTAMP:20260423T014951Z
SUMMARY:Rosenkranz für den Frieden
DESCRIPTION:https://pfarreien-bistum-augsburg.df-preview.de/rosenkranz-fuer
 -den-frieden_id1746144
DTSTART;TZID=Europe/Berlin:20260427T163000
DURATION:PT30M
LOCATION:St. Nikolaus
END:VEVENT
END:VCALENDAR
