BEGIN:VCALENDAR
VERSION:2.0
PRODID:-//Sabre//Sabre VObject 4.5.8//EN
CALSCALE:GREGORIAN
BEGIN:VEVENT
UID:sabre-vobject-d996a95f-cb4e-444d-b0eb-1ff9767f88ff
DTSTAMP:20260423T000533Z
SUMMARY:Eucharistischer Segen und Abschluss-Andacht "In der Liebe verwurzel
 t"
DESCRIPTION:https://pfarreien-bistum-augsburg.df-preview.de/eucharistischer
 -segen-und-abschluss-andacht-in-der-liebe-verwurzelt_id1746141
DTSTART;TZID=Europe/Berlin:20260426T170000
DURATION:PT30M
LOCATION:St. Nikolaus
END:VEVENT
END:VCALENDAR
