BEGIN:VCALENDAR
VERSION:2.0
PRODID:-//Sabre//Sabre VObject 4.5.8//EN
CALSCALE:GREGORIAN
BEGIN:VEVENT
UID:sabre-vobject-7572ea6b-f9e3-4c0d-b200-40feb4c84246
DTSTAMP:20260423T142145Z
SUMMARY:Festmesse
DESCRIPTION:https://pfarreien-bistum-augsburg.df-preview.de/festmesse_id174
 6137
DTSTART;TZID=Europe/Berlin:20260501T090000
DURATION:PT30M
LOCATION:St. Nikolaus
END:VEVENT
END:VCALENDAR
