BEGIN:VCALENDAR
VERSION:2.0
PRODID:-//Sabre//Sabre VObject 4.5.8//EN
CALSCALE:GREGORIAN
BEGIN:VEVENT
UID:sabre-vobject-2c2caa5b-bb51-47a7-83bc-ed7b3d7c640b
DTSTAMP:20260422T190238Z
SUMMARY:nach dem Gottesdienst Aussetzung des Allerheiligsten\, \nAnbetung b
 is 17.00 Uhr
DESCRIPTION:https://pfarreien-bistum-augsburg.df-preview.de/nach-dem-gottes
 dienst-aussetzung-des-allerheiligsten-anbetung-bis-17-00-uhr_id1746133
DTSTART;TZID=Europe/Berlin:20260426T110000
DURATION:PT30M
LOCATION:St. Nikolaus
END:VEVENT
END:VCALENDAR
