BEGIN:VCALENDAR
VERSION:2.0
PRODID:-//Sabre//Sabre VObject 4.5.8//EN
CALSCALE:GREGORIAN
BEGIN:VEVENT
UID:sabre-vobject-2c6c5529-7d69-4bff-bd0e-89eac7673a40
DTSTAMP:20260422T000528Z
SUMMARY:Gebetsstunde Mit-/Füreinander
DESCRIPTION:https://pfarreien-bistum-augsburg.df-preview.de/gebetsstunde-mi
 t-fuereinander_id1746112
DTSTART;TZID=Europe/Berlin:20260422T140000
DURATION:PT30M
LOCATION:St. Anton
END:VEVENT
END:VCALENDAR
