BEGIN:VCALENDAR
VERSION:2.0
PRODID:-//Sabre//Sabre VObject 4.5.8//EN
CALSCALE:GREGORIAN
BEGIN:VEVENT
UID:sabre-vobject-c9e76b40-a359-4b17-baba-356da720f788
DTSTAMP:20260425T154719Z
SUMMARY:Hl. Messe
DESCRIPTION:https://pfarreien-bistum-augsburg.df-preview.de/hl-messe_id1746
 105
DTSTART;TZID=Europe/Berlin:20260520T190000
DURATION:PT30M
LOCATION:St. Albert
END:VEVENT
END:VCALENDAR
