BEGIN:VCALENDAR
VERSION:2.0
PRODID:-//Sabre//Sabre VObject 4.5.8//EN
CALSCALE:GREGORIAN
BEGIN:VEVENT
UID:sabre-vobject-bcab5ca6-1155-4b46-8a10-b960a671c451
DTSTAMP:20260424T174126Z
SUMMARY:Lehenbühl: Abendmesse
DESCRIPTION:https://pfarreien-bistum-augsburg.df-preview.de/lehenbuehl-aben
 dmesse_id1746063
DTSTART;TZID=Europe/Berlin:20260531T190000
DURATION:PT30M
LOCATION:Mariä Schmerzen u. St. Ulrich\, Kirchhof 4\, 87764 Maria Steinbac
 h
END:VEVENT
END:VCALENDAR
