BEGIN:VCALENDAR
VERSION:2.0
PRODID:-//Sabre//Sabre VObject 4.5.8//EN
CALSCALE:GREGORIAN
BEGIN:VEVENT
UID:sabre-vobject-c1d611d2-e552-413d-af13-3ed97e87b882
DTSTAMP:20260422T111515Z
SUMMARY:Hl. Amt
DESCRIPTION:https://pfarreien-bistum-augsburg.df-preview.de/hl-amt_id174606
 2
DTSTART;TZID=Europe/Berlin:20260531T103000
DURATION:PT30M
LOCATION:St. Gordian und Epimach
END:VEVENT
END:VCALENDAR
