BEGIN:VCALENDAR
VERSION:2.0
PRODID:-//Sabre//Sabre VObject 4.5.8//EN
CALSCALE:GREGORIAN
BEGIN:VEVENT
UID:sabre-vobject-d45ad9ef-d630-4094-babf-ea25d0140e97
DTSTAMP:20260424T192129Z
SUMMARY:Pfarrmesse für die Pfarrfamilie St. Albert und St. Georg mit Kinde
 rkirche
DESCRIPTION:https://pfarreien-bistum-augsburg.df-preview.de/pfarrmesse-fuer
 -die-pfarrfamilie-st-albert-und-st-georg-mit-kinderkirche_id1746025
DTSTART;TZID=Europe/Berlin:20260510T103000
DURATION:PT30M
LOCATION:St. Georg
END:VEVENT
END:VCALENDAR
