BEGIN:VCALENDAR
VERSION:2.0
PRODID:-//Sabre//Sabre VObject 4.5.8//EN
CALSCALE:GREGORIAN
BEGIN:VEVENT
UID:sabre-vobject-c92c9d1b-9eda-4355-a8f5-bb74c02819c8
DTSTAMP:20260422T135552Z
SUMMARY:feierliche Maiandacht mit dem Männerchor Illerbeuren
DESCRIPTION:https://pfarreien-bistum-augsburg.df-preview.de/feierliche-maia
 ndacht-mit-dem-maennerchor-illerbeuren_id1746007
DTSTART;TZID=Europe/Berlin:20260531T191500
DURATION:PT30M
LOCATION:Mariä Schmerzen u. St. Ulrich\, Kirchhof 4\, 87764 Maria Steinbac
 h
END:VEVENT
END:VCALENDAR
