BEGIN:VCALENDAR
VERSION:2.0
PRODID:-//Sabre//Sabre VObject 4.5.8//EN
CALSCALE:GREGORIAN
BEGIN:VEVENT
UID:sabre-vobject-4d7aedf0-77ed-4872-9220-90c6b6c21120
DTSTAMP:20260425T004206Z
SUMMARY:Bittgottesdienst - Beginn an der Muttergotteskapelle\, anschl. füh
 rt der Weg in den Wald (bei schlechtem Wetter in der MGK)
DESCRIPTION:https://pfarreien-bistum-augsburg.df-preview.de/bittgottesdiens
 t-beginn-an-der-muttergotteskapelle-anschl-fuehrt-der-weg-in-den-wald-bei-
 schlechtem-wetter-in-der-mgk_id1745986
DTSTART;TZID=Europe/Berlin:20260512T170000
DURATION:PT30M
LOCATION:St. Georg
END:VEVENT
END:VCALENDAR
