BEGIN:VCALENDAR
VERSION:2.0
PRODID:-//Sabre//Sabre VObject 4.5.8//EN
CALSCALE:GREGORIAN
BEGIN:VEVENT
UID:sabre-vobject-af9b3a44-a519-406e-872c-8da16b24c75a
DTSTAMP:20260423T172624Z
SUMMARY:Beerdigung Christine Schädle
DESCRIPTION:https://pfarreien-bistum-augsburg.df-preview.de/beerdigung-chri
 stine-schaedle_id1745976
DTSTART;TZID=Europe/Berlin:20260421T140000
DURATION:PT30M
LOCATION:St. Gordian und Epimach
END:VEVENT
END:VCALENDAR
