BEGIN:VCALENDAR
VERSION:2.0
PRODID:-//Sabre//Sabre VObject 4.5.8//EN
CALSCALE:GREGORIAN
BEGIN:VEVENT
UID:sabre-vobject-e334ebf3-683c-4bf5-81c8-77d18fbfe395
DTSTAMP:20260422T111403Z
SUMMARY:Hl. Amt in der Pfarrkirche
DESCRIPTION:https://pfarreien-bistum-augsburg.df-preview.de/hl-amt-in-der-p
 farrkirche_id1745968
DTSTART;TZID=Europe/Berlin:20260531T103000
DURATION:PT30M
LOCATION:St. Peter und Paul\, Kirchtalstr. 2\, 87763 Lautrach
END:VEVENT
END:VCALENDAR
