BEGIN:VCALENDAR
VERSION:2.0
PRODID:-//Sabre//Sabre VObject 4.5.8//EN
CALSCALE:GREGORIAN
BEGIN:VEVENT
UID:sabre-vobject-a46af7dc-04e6-49a5-bce4-921294e91c1b
DTSTAMP:20260422T192355Z
SUMMARY:Hl. Amt in der Hauskirche von Regens Wagner
DESCRIPTION:https://pfarreien-bistum-augsburg.df-preview.de/hl-amt-in-der-h
 auskirche-von-regens-wagner_id1745948
DTSTART;TZID=Europe/Berlin:20260531T090000
DURATION:PT30M
LOCATION:St. Peter und Paul\, Kirchtalstr. 2\, 87763 Lautrach
END:VEVENT
END:VCALENDAR
