BEGIN:VCALENDAR
VERSION:2.0
PRODID:-//Sabre//Sabre VObject 4.5.8//EN
CALSCALE:GREGORIAN
BEGIN:VEVENT
UID:sabre-vobject-a0b99b5f-638d-49f3-85bd-4727588b4ba1
DTSTAMP:20260423T002754Z
SUMMARY:Barmherzigkeitsrosenkranz
DESCRIPTION:https://pfarreien-bistum-augsburg.df-preview.de/barmherzigkeits
 rosenkranz_id1745724
DTSTART;TZID=Europe/Berlin:20260531T084500
DURATION:PT30M
LOCATION:Mariä Himmelfahrt\, Schlottergasse 2\, 87758 Kronburg-Illerbeuren
END:VEVENT
END:VCALENDAR
