BEGIN:VCALENDAR
VERSION:2.0
PRODID:-//Sabre//Sabre VObject 4.5.8//EN
CALSCALE:GREGORIAN
BEGIN:VEVENT
UID:sabre-vobject-2460e15f-41a3-493f-b44b-da48a21cb4d5
DTSTAMP:20260422T001810Z
SUMMARY:Dankandacht
DESCRIPTION:https://pfarreien-bistum-augsburg.df-preview.de/dankandacht_id1
 745695
DTSTART;TZID=Europe/Berlin:20260503T143000
DURATION:PT30M
LOCATION:Mariä Himmelfahrt
END:VEVENT
END:VCALENDAR
