BEGIN:VCALENDAR
VERSION:2.0
PRODID:-//Sabre//Sabre VObject 4.5.8//EN
CALSCALE:GREGORIAN
BEGIN:VEVENT
UID:sabre-vobject-9ad250f3-90fd-4cb8-a0d8-5ef7dba37cf6
DTSTAMP:20260422T000404Z
SUMMARY:Dankandacht
DESCRIPTION:https://pfarreien-bistum-augsburg.df-preview.de/dankandacht_id1
 745672
DTSTART;TZID=Europe/Berlin:20260426T143000
DURATION:PT30M
LOCATION:St. Peter und Paul
END:VEVENT
END:VCALENDAR
