BEGIN:VCALENDAR
VERSION:2.0
PRODID:-//Sabre//Sabre VObject 4.5.8//EN
CALSCALE:GREGORIAN
BEGIN:VEVENT
UID:sabre-vobject-eb61acc4-3886-4b3b-8382-e211aa5e76b5
DTSTAMP:20260424T200942Z
SUMMARY:Messfeier für
DESCRIPTION:https://pfarreien-bistum-augsburg.df-preview.de/messfeier-fuer_
 id1745653
DTSTART;TZID=Europe/Berlin:20260506T190000
DURATION:PT30M
LOCATION:St. Vitus
END:VEVENT
END:VCALENDAR
