BEGIN:VCALENDAR
VERSION:2.0
PRODID:-//Sabre//Sabre VObject 4.5.8//EN
CALSCALE:GREGORIAN
BEGIN:VEVENT
UID:sabre-vobject-873a9101-b68e-4016-9da0-590c74dfa965
DTSTAMP:20260425T190237Z
SUMMARY:Feierl. Maiandacht u. Lichterprozession zur Lourdeskapelle
DESCRIPTION:https://pfarreien-bistum-augsburg.df-preview.de/feierl-maiandac
 ht-u-lichterprozession-zur-lourdeskapelle_id1745588
DTSTART;TZID=Europe/Berlin:20260501T200000
DURATION:PT30M
LOCATION:St. Stephan
END:VEVENT
END:VCALENDAR
