BEGIN:VCALENDAR
VERSION:2.0
PRODID:-//Sabre//Sabre VObject 4.5.8//EN
CALSCALE:GREGORIAN
BEGIN:VEVENT
UID:sabre-vobject-a49ff379-be23-46c6-aa47-0777540dc594
DTSTAMP:20260425T224443Z
SUMMARY:Taufe
DESCRIPTION:https://pfarreien-bistum-augsburg.df-preview.de/taufe_id1745585
DTSTART;TZID=Europe/Berlin:20260426T111500
DURATION:PT30M
LOCATION:St. Stephan
END:VEVENT
END:VCALENDAR
