BEGIN:VCALENDAR
VERSION:2.0
PRODID:-//Sabre//Sabre VObject 4.5.8//EN
CALSCALE:GREGORIAN
BEGIN:VEVENT
UID:sabre-vobject-0c278fa2-5e76-4b32-8689-8ea824bc6a9f
DTSTAMP:20260424T141025Z
SUMMARY:Taufe
DESCRIPTION:https://pfarreien-bistum-augsburg.df-preview.de/taufe_id1745549
DTSTART;TZID=Europe/Berlin:20260517T111500
DURATION:PT30M
LOCATION:St. Martin
END:VEVENT
END:VCALENDAR
