BEGIN:VCALENDAR
VERSION:2.0
PRODID:-//Sabre//Sabre VObject 4.5.8//EN
CALSCALE:GREGORIAN
BEGIN:VEVENT
UID:sabre-vobject-ed1b7de5-3e7f-4b4c-8037-91effbcaf32b
DTSTAMP:20260421T000922Z
SUMMARY:Feierl. Ek
DESCRIPTION:https://pfarreien-bistum-augsburg.df-preview.de/feierl-ek_id174
 5541
DTSTART;TZID=Europe/Berlin:20260419T100000
DURATION:PT30M
LOCATION:Mariä Himmelfahrt
END:VEVENT
END:VCALENDAR
