BEGIN:VCALENDAR
VERSION:2.0
PRODID:-//Sabre//Sabre VObject 4.5.8//EN
CALSCALE:GREGORIAN
BEGIN:VEVENT
UID:sabre-vobject-49cf25e9-b8ab-4510-b531-1c803b90b771
DTSTAMP:20260421T013549Z
SUMMARY:Erstkommunion Singoldschule
DESCRIPTION:https://pfarreien-bistum-augsburg.df-preview.de/erstkommunion-s
 ingoldschule_id1745492
DTSTART;TZID=Europe/Berlin:20260425T100000
DURATION:PT30M
LOCATION:St. Felizitas
END:VEVENT
END:VCALENDAR
