BEGIN:VCALENDAR
VERSION:2.0
PRODID:-//Sabre//Sabre VObject 4.5.8//EN
CALSCALE:GREGORIAN
BEGIN:VEVENT
UID:sabre-vobject-87e176d4-53fc-48a4-95ee-bdafd2566dfa
DTSTAMP:20260421T070459Z
SUMMARY:VAM
DESCRIPTION:https://pfarreien-bistum-augsburg.df-preview.de/vam_id1745479
DTSTART;TZID=Europe/Berlin:20260425T191500
DURATION:PT30M
LOCATION:St. Radegundis
END:VEVENT
END:VCALENDAR
