BEGIN:VCALENDAR
VERSION:2.0
PRODID:-//Sabre//Sabre VObject 4.5.8//EN
CALSCALE:GREGORIAN
BEGIN:VEVENT
UID:sabre-vobject-95a292e6-b471-4071-a4a6-f5d4fdf89483
DTSTAMP:20260422T083818Z
SUMMARY:Ewige Anbetung mit Te Deum und eucharistischem Segen
DESCRIPTION:https://pfarreien-bistum-augsburg.df-preview.de/ewige-anbetung-
 mit-te-deum-und-eucharistischem-segen_id1745438
DTSTART;TZID=Europe/Berlin:20260430T180000
DURATION:PT30M
LOCATION:St. Stephan
END:VEVENT
END:VCALENDAR
