BEGIN:VCALENDAR
VERSION:2.0
PRODID:-//Sabre//Sabre VObject 4.5.8//EN
CALSCALE:GREGORIAN
BEGIN:VEVENT
UID:sabre-vobject-5dbcf717-1b06-4ac0-ab11-873dfb9361bf
DTSTAMP:20260425T131402Z
SUMMARY:Rosenkranzgebet
DESCRIPTION:https://pfarreien-bistum-augsburg.df-preview.de/rosenkranzgebet
 _id1745375
DTSTART;TZID=Europe/Berlin:20260508T182000
DURATION:PT30M
LOCATION:St. Ulrich
END:VEVENT
END:VCALENDAR
