BEGIN:VCALENDAR
VERSION:2.0
PRODID:-//Sabre//Sabre VObject 4.5.8//EN
CALSCALE:GREGORIAN
BEGIN:VEVENT
UID:sabre-vobject-43f12157-a53e-43fd-b7c9-08254fdd42fe
DTSTAMP:20260424T190456Z
SUMMARY:Sonntagsmessfeier für
DESCRIPTION:https://pfarreien-bistum-augsburg.df-preview.de/sonntagsmessfei
 er-fuer_id1745335
DTSTART;TZID=Europe/Berlin:20260510T083000
DURATION:PT30M
LOCATION:St. Vitus
END:VEVENT
END:VCALENDAR
