BEGIN:VCALENDAR
VERSION:2.0
PRODID:-//Sabre//Sabre VObject 4.5.8//EN
CALSCALE:GREGORIAN
BEGIN:VEVENT
UID:sabre-vobject-0adba97e-176c-4e86-aa59-da879aa2800d
DTSTAMP:20260425T034059Z
SUMMARY:Maiandacht musikalische Gestaltung: Orgel
DESCRIPTION:https://pfarreien-bistum-augsburg.df-preview.de/maiandacht-musi
 kalische-gestaltung-orgel_id1745313
DTSTART;TZID=Europe/Berlin:20260501T190000
DURATION:PT30M
LOCATION:St. Ulrich
END:VEVENT
END:VCALENDAR
