BEGIN:VCALENDAR
VERSION:2.0
PRODID:-//Sabre//Sabre VObject 4.5.8//EN
CALSCALE:GREGORIAN
BEGIN:VEVENT
UID:sabre-vobject-b8e1d42e-9cbd-4a20-a212-7d4ec6378faa
DTSTAMP:20260422T192343Z
SUMMARY:Maiandacht an der Grotte gestaltet vom Frauenbund Kirchdorf musikal
 ische Gestaltung: Kirchdorfer Musikanten (Treffpunkt Parkplatz Fa. Strobel
 \, bei schlechtem Wetter um 19.15 Uhr in der Pfarr
DESCRIPTION:https://pfarreien-bistum-augsburg.df-preview.de/maiandacht-an-d
 er-grotte-gestaltet-vom-frauenbund-kirchdorf-musikalische-gestaltung-kirch
 dorfer-musikanten-treffpunkt-parkplatz-fa-strobel-bei-schlechtem-wetter-um
 -19-15-uhr-in-der-pfarr_id1745256
DTSTART;TZID=Europe/Berlin:20260503T190000
DURATION:PT30M
LOCATION:St. Stephan
END:VEVENT
END:VCALENDAR
