BEGIN:VCALENDAR
VERSION:2.0
PRODID:-//Sabre//Sabre VObject 4.5.8//EN
CALSCALE:GREGORIAN
BEGIN:VEVENT
UID:sabre-vobject-a951c904-4218-4ea0-b83c-c24b0d70c56b
DTSTAMP:20260424T205216Z
SUMMARY:Erstkommunionfeier musikalische Gestaltung: Familienchor
DESCRIPTION:https://pfarreien-bistum-augsburg.df-preview.de/erstkommunionfe
 ier-musikalische-gestaltung-familienchor_id1745243
DTSTART;TZID=Europe/Berlin:20260425T101500
DURATION:PT30M
LOCATION:St. Ulrich
END:VEVENT
END:VCALENDAR
