BEGIN:VCALENDAR
VERSION:2.0
PRODID:-//Sabre//Sabre VObject 4.5.8//EN
CALSCALE:GREGORIAN
BEGIN:VEVENT
UID:sabre-vobject-3948375c-c5b0-4090-8ad4-757226ee2977
DTSTAMP:20260425T011944Z
SUMMARY:Sonntagsmessfeier und Konventgebet der Marianischen Kongregation f
 ür
DESCRIPTION:https://pfarreien-bistum-augsburg.df-preview.de/sonntagsmessfei
 er-und-konventgebet-der-marianischen-kongregation-fuer_id1745239
DTSTART;TZID=Europe/Berlin:20260524T100000
DURATION:PT30M
LOCATION:St. Stephan
END:VEVENT
END:VCALENDAR
