BEGIN:VCALENDAR
VERSION:2.0
PRODID:-//Sabre//Sabre VObject 4.5.8//EN
CALSCALE:GREGORIAN
BEGIN:VEVENT
UID:sabre-vobject-a4a2e07e-e069-4e57-b667-89fbd3b19bef
DTSTAMP:20260425T193125Z
SUMMARY:Bittgang nach St. Kastulus\, Treffpunkt: Kirche Baar
DESCRIPTION:https://pfarreien-bistum-augsburg.df-preview.de/bittgang-nach-s
 t-kastulus-treffpunkt-kirche-baar_id1745210
DTSTART;TZID=Europe/Berlin:20260515T075000
DURATION:PT30M
LOCATION:Mariä Himmelfahrt
END:VEVENT
END:VCALENDAR
