BEGIN:VCALENDAR
VERSION:2.0
PRODID:-//Sabre//Sabre VObject 4.5.8//EN
CALSCALE:GREGORIAN
BEGIN:VEVENT
UID:sabre-vobject-b78d4155-f6d5-4380-8338-5afc3f2c95d2
DTSTAMP:20260423T005002Z
SUMMARY:Vorabendmesse zum Sonntag
DESCRIPTION:https://pfarreien-bistum-augsburg.df-preview.de/vorabendmesse-z
 um-sonntag_id1745196
DTSTART;TZID=Europe/Berlin:20260530T190000
DURATION:PT30M
LOCATION:St. Peter
END:VEVENT
END:VCALENDAR
